BEGIN:VCALENDAR
VERSION:2.0
PRODID:-//Plone.org//NONSGML plone.app.event//EN
X-WR-TIMEZONE:Europe/Madrid
BEGIN:VEVENT
SUMMARY:4t DOP: Posa't a punt per trobar feina o pràctiques a l'estiu
DTSTART;TZID=Europe/Madrid:20170504T120000
DTEND;TZID=Europe/Madrid:20170504T130000
DTSTAMP:20260420T010106Z
UID:284041ebb3f94fb3a1d4ee9e3befd5bb@etseib.upc.edu
CREATED:20170427T132313Z
DESCRIPTION:Prepara't per superar els processos de selecció. Saps com fun
 cionen els processos de selecció? Vols saber què et preguntaran a l'entr
 evista de treball? Aula LS1.
LAST-MODIFIED:20170428T095718Z
LOCATION:Aula LS1 (ETSEIB)
URL:https://etseib.upc.edu/ca/esdeveniments/4t-dop
END:VEVENT
BEGIN:VTIMEZONE
TZID:Europe/Madrid
X-LIC-LOCATION:Europe/Madrid
BEGIN:DAYLIGHT
DTSTART:20170326T030000
TZNAME:CEST
TZOFFSETFROM:+0100
TZOFFSETTO:+0200
END:DAYLIGHT
END:VTIMEZONE
END:VCALENDAR
