BEGIN:VCALENDAR
VERSION:2.0
PRODID:-//Plone.org//NONSGML plone.app.event//EN
X-WR-TIMEZONE:Europe/Madrid
BEGIN:VEVENT
SUMMARY:DOP: “Com posar en marxa un projecte empresarial a la UPC”
DTSTART;TZID=Europe/Madrid:20260507T120000
DTSTAMP:20260424T171237Z
UID:2c8eae3de9424fb2aa91ca9cf8c8ad3b@etseib.upc.edu
CREATED:20260423T124643Z
DESCRIPTION:T'agradaria crear la teva pròpia empresa? No et perdis l'últ
 im DOP del curs a càrrec d'Emprèn UPC el 7 de maig a l'aula LS1!
LAST-MODIFIED:20260423T132925Z
LOCATION:Aula LS1
URL:https://etseib.upc.edu/ca/esdeveniments/dop-com-posar-en-marxa-un-proj
 ecte-empresarial-a-la-upc
END:VEVENT
BEGIN:VTIMEZONE
TZID:Europe/Madrid
X-LIC-LOCATION:Europe/Madrid
BEGIN:DAYLIGHT
DTSTART:20260329T030000
TZNAME:CEST
TZOFFSETFROM:+0100
TZOFFSETTO:+0200
END:DAYLIGHT
END:VTIMEZONE
END:VCALENDAR
