BEGIN:VCALENDAR
VERSION:2.0
PRODID:-//Plone.org//NONSGML plone.app.event//EN
X-WR-TIMEZONE:Europe/Madrid
BEGIN:VEVENT
SUMMARY:Eleccions Junta d'Escola
DTSTART;TZID=Europe/Madrid:20180502T100000
DTEND;TZID=Europe/Madrid:20180502T170000
DTSTAMP:20260424T165222Z
UID:2d7432b22f7c406da0d9f4f23fa23d64@etseib.upc.edu
CREATED:20180403T085620Z
DESCRIPTION:Eleccions parcials a la Junta d'Escola - maig 2018
LAST-MODIFIED:20180403T085653Z
LOCATION:Sala d'Actes de l'ETSEIB
URL:https://etseib.upc.edu/ca/esdeveniments/eleccions-junta-descola-1
END:VEVENT
BEGIN:VTIMEZONE
TZID:Europe/Madrid
X-LIC-LOCATION:Europe/Madrid
BEGIN:DAYLIGHT
DTSTART:20180325T030000
TZNAME:CEST
TZOFFSETFROM:+0100
TZOFFSETTO:+0200
END:DAYLIGHT
END:VTIMEZONE
END:VCALENDAR
