BEGIN:VCALENDAR
VERSION:2.0
PRODID:-//Plone.org//NONSGML plone.app.event//EN
X-WR-TIMEZONE:Europe/Madrid
BEGIN:VEVENT
SUMMARY:EMPOWER H2020
DTSTART;TZID=Europe/Madrid:20170126T080000
DTEND;TZID=Europe/Madrid:20170126T140000
DTSTAMP:20260420T223511Z
UID:3a7b765a963e4f10a480b131c2ffc3f8@etseib.upc.edu
CONTACT:http://empowerh2020.eu/local-energy-markets-dream-or-facta-symposi
 um/
CREATED:20170112T163438Z
DESCRIPTION:Simposi "Local energy markets: dream or facta"
LAST-MODIFIED:20170112T163611Z
LOCATION:ETSEIB
URL:https://etseib.upc.edu/ca/esdeveniments/empower-h2020
END:VEVENT
BEGIN:VTIMEZONE
TZID:Europe/Madrid
X-LIC-LOCATION:Europe/Madrid
BEGIN:STANDARD
DTSTART:20161030T020000
TZNAME:CET
TZOFFSETFROM:+0200
TZOFFSETTO:+0100
END:STANDARD
END:VTIMEZONE
END:VCALENDAR
