BEGIN:VCALENDAR
VERSION:2.0
PRODID:-//Plone.org//NONSGML plone.app.event//EN
X-WR-TIMEZONE:Europe/Madrid
BEGIN:VEVENT
SUMMARY:Engineering for Mobility: IA aplicada a l’automoció
DTSTART;TZID=Europe/Madrid:20260512T180000
DTEND;TZID=Europe/Madrid:20260512T190000
DTSTAMP:20260424T183842Z
UID:b7e9383fd5344f498d4c3b91ed1821b7@etseib.upc.edu
CONTACT:https://docs.google.com/forms/d/e/1FAIpQLScK3YKyj-k145u_HYsFSHB1NQ
 XynF-pxdz1q7-41CUN6qIZdA/viewform
CREATED:20260420T100920Z
DESCRIPTION:Nova jornada d’ETSEIB Alumni centrada en l’aplicació de l
 a intel·ligència artificial a l’automoció
LAST-MODIFIED:20260420T101241Z
LOCATION:Sala d’Actes de l'ETSEIB
URL:https://etseib.upc.edu/ca/esdeveniments/engineering-for-mobility-ia-ap
 licada-a-lautomocio
END:VEVENT
BEGIN:VTIMEZONE
TZID:Europe/Madrid
X-LIC-LOCATION:Europe/Madrid
BEGIN:DAYLIGHT
DTSTART:20260329T030000
TZNAME:CEST
TZOFFSETFROM:+0100
TZOFFSETTO:+0200
END:DAYLIGHT
END:VTIMEZONE
END:VCALENDAR
