BEGIN:VCALENDAR
VERSION:2.0
PRODID:-//Plone.org//NONSGML plone.app.event//EN
X-WR-TIMEZONE:Europe/Madrid
BEGIN:VEVENT
SUMMARY:Event on Education
DTSTART;TZID=Europe/Madrid:20180508T170000
DTEND;TZID=Europe/Madrid:20180508T210000
DTSTAMP:20260424T210452Z
UID:5f4683c75ea9438cb07355cbacc865a7@etseib.upc.edu
CONTACT:BEST-UPC\, https://bestbarcelona.org/web/index.php/2018/04/18/leoe
 -barcelona/
CREATED:20180507T095414Z
DESCRIPTION:Definim la universitat del futur! El futur de l'educació a le
 s teves mans. Esdeveniment organitzat per l'associació d'estudiants BEST-
 UPC (Board of European Students of Technology)\, on es debatrà entre estu
 diants\, professors i empreses per definir la universitat de demà.
LAST-MODIFIED:20180507T095703Z
LOCATION:Aula Capella\, ETSEIB
URL:https://etseib.upc.edu/ca/esdeveniments/event-on-education
END:VEVENT
BEGIN:VTIMEZONE
TZID:Europe/Madrid
X-LIC-LOCATION:Europe/Madrid
BEGIN:DAYLIGHT
DTSTART:20180325T030000
TZNAME:CEST
TZOFFSETFROM:+0100
TZOFFSETTO:+0200
END:DAYLIGHT
END:VTIMEZONE
END:VCALENDAR
