BEGIN:VCALENDAR
VERSION:2.0
PRODID:-//Plone.org//NONSGML plone.app.event//EN
X-WR-TIMEZONE:Europe/Madrid
BEGIN:VEVENT
SUMMARY:Final del Health Tech Innovation Challenge
DTSTART;TZID=Europe/Madrid:20180504T100000
DTSTAMP:20260424T090938Z
UID:3ed1e201f203486896203224b5424478@etseib.upc.edu
CONTACT:Health Tech Innovation Challenge\, https://ht-innovationchallenge.
 com/
CREATED:20180427T123833Z
DESCRIPTION:El divendres 4 de maig es durà a terme la gran final del "Hea
 lth Tech Innovation Challenge" que organitza el CREB amb el suport del Cat
 alonia Bio i Health Tech Cluster i ESADE. En aquesta activitat que tindrà
  lloc a l'Aula Capella s'entregaran 9000 euros en premis (3 premis de 3000
  euros per a cadascun dels equips guanyadors dels 3 reptes).
LAST-MODIFIED:20180427T123919Z
LOCATION:Aula Capella\, ETSEIB
URL:https://etseib.upc.edu/ca/esdeveniments/final-del-health-tech-innovati
 on-challenge
END:VEVENT
BEGIN:VTIMEZONE
TZID:Europe/Madrid
X-LIC-LOCATION:Europe/Madrid
BEGIN:DAYLIGHT
DTSTART:20180325T030000
TZNAME:CEST
TZOFFSETFROM:+0100
TZOFFSETTO:+0200
END:DAYLIGHT
END:VTIMEZONE
END:VCALENDAR
