BEGIN:VCALENDAR
VERSION:2.0
PRODID:-//Plone.org//NONSGML plone.app.event//EN
X-WR-TIMEZONE:Europe/Madrid
BEGIN:VEVENT
SUMMARY:Jornada de Portes Obertes VIRTUAL
DTSTART;TZID=Europe/Madrid:20260513T153000
DTSTAMP:20260424T154805Z
UID:9fb1b4efa9ae44e6a1b4f6fee5f0ca15@etseib.upc.edu
CREATED:20260421T095206Z
DESCRIPTION:Descobreix els graus en l’àmbit industrial i resol els teus
  dubtes en una sessió virtual en directe\, el 13 de maig a les 15.30 h.
LAST-MODIFIED:20260421T095929Z
LOCATION:Online
URL:https://etseib.upc.edu/ca/esdeveniments/jornada-de-portes-obertes-virt
 ual
END:VEVENT
BEGIN:VTIMEZONE
TZID:Europe/Madrid
X-LIC-LOCATION:Europe/Madrid
BEGIN:DAYLIGHT
DTSTART:20260329T030000
TZNAME:CEST
TZOFFSETFROM:+0100
TZOFFSETTO:+0200
END:DAYLIGHT
END:VTIMEZONE
END:VCALENDAR
