BEGIN:VCALENDAR
VERSION:2.0
PRODID:-//Plone.org//NONSGML plone.app.event//EN
X-WR-TIMEZONE:Europe/Madrid
BEGIN:VEVENT
SUMMARY:Punt Raval: Projecte de Oasiurbà
DTSTART;TZID=Europe/Madrid:20180412T140000
DTSTAMP:20260424T095215Z
UID:6f345371f63046c087c84473e6280848@etseib.upc.edu
CREATED:20180409T133112Z
DESCRIPTION:Sessió anul·lada per impossibilitat d'assistència de la pon
 ent.
LAST-MODIFIED:20180412T091830Z
LOCATION:Aula Capella\, ETSEIB
URL:https://etseib.upc.edu/ca/esdeveniments/punt-raval-projecte-de-oasiurb
 a
END:VEVENT
BEGIN:VTIMEZONE
TZID:Europe/Madrid
X-LIC-LOCATION:Europe/Madrid
BEGIN:DAYLIGHT
DTSTART:20180325T030000
TZNAME:CEST
TZOFFSETFROM:+0100
TZOFFSETTO:+0200
END:DAYLIGHT
END:VTIMEZONE
END:VCALENDAR
