BEGIN:VCALENDAR
VERSION:2.0
PRODID:-//Plone.org//NONSGML plone.app.event//EN
X-WR-TIMEZONE:Europe/Madrid
BEGIN:VEVENT
SUMMARY:Sant Jordi a l’ETSEIB 2026
DTSTART;TZID=Europe/Madrid:20260423T121500
DTEND;TZID=Europe/Madrid:20260423T140000
DTSTAMP:20260419T154608Z
UID:e184f391a4fc4b3c97e5c2a00434aaa5@etseib.upc.edu
CREATED:20260417T121145Z
DESCRIPTION:Vine a gaudir de la diada i participa amb música\, lectures i
  bon ambient a la Plaça de l’Enginy
LAST-MODIFIED:20260417T121741Z
LOCATION:Plaça de l’Enginy - ETSEIB
URL:https://etseib.upc.edu/ca/esdeveniments/sant-jordi-a-letseib-2026
END:VEVENT
BEGIN:VTIMEZONE
TZID:Europe/Madrid
X-LIC-LOCATION:Europe/Madrid
BEGIN:DAYLIGHT
DTSTART:20260329T030000
TZNAME:CEST
TZOFFSETFROM:+0100
TZOFFSETTO:+0200
END:DAYLIGHT
END:VTIMEZONE
END:VCALENDAR
