BEGIN:VCALENDAR
VERSION:2.0
PRODID:-//Plone.org//NONSGML plone.app.event//EN
X-WR-TIMEZONE:Europe/Madrid
BEGIN:VEVENT
SUMMARY:Teatre a l'ETSEIB: "Kala Sarpa"
DTSTART;TZID=Europe/Madrid:20260517T191500
DTEND;TZID=Europe/Madrid:20260519T201500
DTSTAMP:20260424T154805Z
UID:d64ddbb30e7a4f54b5bf8390ebdfb71d@etseib.upc.edu
CREATED:20260422T071801Z
DESCRIPTION:Vine a gaudir de "Kala Sarpa" els dies 17\, 18 i 19 de maig a 
 la Sala d'Actes de l'ETSEIB. Entrada lliure.
LAST-MODIFIED:20260422T081943Z
LOCATION:Sala d’Actes de l'ETSEIB
URL:https://etseib.upc.edu/ca/esdeveniments/teatre-a-letseib-kala-sarpa
END:VEVENT
BEGIN:VTIMEZONE
TZID:Europe/Madrid
X-LIC-LOCATION:Europe/Madrid
BEGIN:DAYLIGHT
DTSTART:20260329T030000
TZNAME:CEST
TZOFFSETFROM:+0100
TZOFFSETTO:+0200
END:DAYLIGHT
END:VTIMEZONE
END:VCALENDAR
