BEGIN:VCALENDAR
VERSION:2.0
PRODID:-//Plone.org//NONSGML plone.app.event//EN
X-WR-TIMEZONE:Europe/Madrid
BEGIN:VEVENT
SUMMARY:Torna La Festa de l'Escola!
DTSTART;TZID=Europe/Madrid:20260508T120000
DTSTAMP:20260425T002833Z
UID:547927ef774a4e1eaf3ee520a9d327bf@etseib.upc.edu
CREATED:20260423T092818Z
DESCRIPTION:Del 5 al 8 de maig se celebra "La Festa de l'Escola": quatre d
 ies de gresca i reivindicació.
LAST-MODIFIED:20260423T093018Z
LOCATION:ETSEIB
URL:https://etseib.upc.edu/ca/esdeveniments/torna-la-festa-de-lescola
END:VEVENT
BEGIN:VTIMEZONE
TZID:Europe/Madrid
X-LIC-LOCATION:Europe/Madrid
BEGIN:DAYLIGHT
DTSTART:20260329T030000
TZNAME:CEST
TZOFFSETFROM:+0100
TZOFFSETTO:+0200
END:DAYLIGHT
END:VTIMEZONE
END:VCALENDAR
